BEGIN:VCALENDAR
VERSION:2.0
PRODID:-//Transplant Football - ECPv6.3.3//NONSGML v1.0//EN
CALSCALE:GREGORIAN
METHOD:PUBLISH
X-WR-CALNAME:Transplant Football
X-ORIGINAL-URL:https://transplantfootball.com
X-WR-CALDESC:Events for Transplant Football
REFRESH-INTERVAL;VALUE=DURATION:PT1H
X-Robots-Tag:noindex
X-PUBLISHED-TTL:PT1H
BEGIN:VTIMEZONE
TZID:Europe/London
BEGIN:DAYLIGHT
TZOFFSETFROM:+0000
TZOFFSETTO:+0100
TZNAME:BST
DTSTART:20230326T010000
END:DAYLIGHT
BEGIN:STANDARD
TZOFFSETFROM:+0100
TZOFFSETTO:+0000
TZNAME:GMT
DTSTART:20231029T010000
END:STANDARD
BEGIN:DAYLIGHT
TZOFFSETFROM:+0000
TZOFFSETTO:+0100
TZNAME:BST
DTSTART:20240331T010000
END:DAYLIGHT
BEGIN:STANDARD
TZOFFSETFROM:+0100
TZOFFSETTO:+0000
TZNAME:GMT
DTSTART:20241027T010000
END:STANDARD
END:VTIMEZONE
BEGIN:VEVENT
DTSTART;TZID=Europe/London:20240225T103000
DTEND;TZID=Europe/London:20240225T133000
DTSTAMP:20260421T165227
CREATED:20240201T114953Z
LAST-MODIFIED:20240201T131240Z
UID:11355-1708857000-1708867800@transplantfootball.com
SUMMARY:England Senior's Open Trials - Leeds
DESCRIPTION:England Senior’s Camp – Leeds\nOur Open Trials camps are an excellent opportunity for transplant recipients of all genders\, 16+\, to try Transplant Football.  \nTo make new friends and get help and advice on starting your Transplant football journey\, regionally or Internationally.  \nThe day consists of fun team-building exercises\, technical training\, and a seven-aside game time. Our Uefa-qualified coaches are there to make the camp enjoyable\, safe\, and inclusive.  \nWe can assist you in partnership with your regional County FA in finding more local training sessions or club affiliation opportunities.  \nWhat better way to start your Transplant Football journey than with the England National transplant team? \nNote: New Players must complete the online registration and medical form before attending the camp. \n  \n\n    Register Today\n    \n  \nMarch –  Senior/Youth Camp
URL:https://transplantfootball.com/event/england-seniors-open-trials-leeds-febuary/
LOCATION:West Ridings FA\, Fleet Ln\, Woodlesford\, Leeds\, LS26 8NX\, United Kingdom
CATEGORIES:Transplant Football
ATTACH;FMTTYPE=image/png:https://transplantfootball.com/wp-content/uploads/2024/02/ETFC-Cam-Feb-24-POSTER-3-e1706787827509.png
ORGANIZER;CN="England Transplant Football Association":MAILTO:register@transplantfootball.com
END:VEVENT
BEGIN:VEVENT
DTSTART;TZID=Europe/London:20230924T120000
DTEND;TZID=Europe/London:20230924T150000
DTSTAMP:20260421T165227
CREATED:20230901T122526Z
LAST-MODIFIED:20230901T123444Z
UID:11317-1695556800-1695567600@transplantfootball.com
SUMMARY:England Senior's Open Trials
DESCRIPTION:England Senior’s Open Trials – Leeds\nOur Open Trials camps are an excellent opportunity for transplant recipients of all genders\, 16+\, to try Transplant Football.  \nTo make new friends and get help and advice on starting your Transplant football journey\, regionally or Internationally.  \nThe day consists of some fun team-building exercises\, technical training and seven aside game time. Our Uefa-qualified coaches are there to make the camp enjoyable\, safe and inclusive.  \nWe can assist you in partnership with your regional County FA in finding more local training sessions or club affiliation opportunities.  \nWhat better way to start your Transplant Football journey than with the England National transplant team? \nNote: New Players must complete the online registration and medical form before attending the camp. \n  \n\n    Register Today\n    \n  \nOct –  Youth Camp
URL:https://transplantfootball.com/event/england-seniors-open-trials-leeds/
LOCATION:West Ridings FA\, Fleet Ln\, Woodlesford\, Leeds\, LS26 8NX\, United Kingdom
CATEGORIES:Transplant Football
ATTACH;FMTTYPE=image/jpeg:https://transplantfootball.com/wp-content/uploads/2023/09/sept_Camp-2023-04-13T12-50-21-2.jpeg
ORGANIZER;CN="England Transplant Football Association":MAILTO:register@transplantfootball.com
END:VEVENT
BEGIN:VEVENT
DTSTART;TZID=Europe/London:20230820T110000
DTEND;TZID=Europe/London:20230820T150000
DTSTAMP:20260421T165227
CREATED:20230817T145935Z
LAST-MODIFIED:20230817T145935Z
UID:11313-1692529200-1692543600@transplantfootball.com
SUMMARY:England Senior's Training Camp
DESCRIPTION:England Senior’s Training Camp – Walsall\nJoin us this Aug for our England Senior’s training camp and Walking Football Friendly in Walsall.\nIt’s your chance to try out for the Men and Women’s Senior teams for upcoming friendlies and competitions. \nThere are also trials for the Men’s over 50’s and Women’s Over 40’s Walking Football teams. Both are recruiting players for friendlies\, exhibition matches and tournaments. \nAt this camp\, the England 0ver 50’s Kicking Cancer team are playing a friendly against our England Walking Football team\, kick-off is at 2 pm. \nOur Transplant Football Camps are open to players over 16 years old. Register\, today and get an insight into what it takes to train and represent your country. \nWhat better way is there to start your Transplant Football journey than with the England National transplant team? \nNote: New Players must complete the online registration and medical form before attendance can be confirmed. \n  \n\n    Register Today\n    \n  \nOct – England Senior & Youth Camp
URL:https://transplantfootball.com/event/england-seniors-training-camp-walsall-aug/
LOCATION:University of Wolverhampton\, Gorway Rd\,\, Wolverhampton\, Walsall\, Gorway RdWS1 3BD
CATEGORIES:Transplant Football
ATTACH;FMTTYPE=image/png:https://transplantfootball.com/wp-content/uploads/2023/08/Aug_Camp-2023-04-13T12-50-21-2.png
ORGANIZER;CN="England Transplant Football Association":MAILTO:register@transplantfootball.com
END:VEVENT
BEGIN:VEVENT
DTSTART;TZID=Europe/London:20230715T110000
DTEND;TZID=Europe/London:20230715T160000
DTSTAMP:20260421T165227
CREATED:20230310T161948Z
LAST-MODIFIED:20230525T145641Z
UID:11177-1689418800-1689436800@transplantfootball.com
SUMMARY:England Senior's Training Camp
DESCRIPTION:England Senior’s Training Camp\nJoin us this July for our England Senior’s training camp and Walking Football Trials.\nIt’s your chance to try out for the Men and Women’s Senior teams for upcoming friendlies and competitions. \nThere are also trials for the Men’s over 50’s and Women’s Over 40’s Walking Football teams. Both are recruiting players for friendlies\, exhibition matches and a tournament in France this September. \nOur Transplant Football Camps are open to players over 16 years old. Register\, today and get an insight into what it takes to train and represent your country. \nWhat better way is there to start your Transplant Football journey than with the England National transplant team? \nNote: New Players must complete the online registration and medical form before attendance can be confirmed. \n  \n\n    Register Today\n    \n  \nAug – England Senior & Youth Camp/NTFL Cup
URL:https://transplantfootball.com/event/england-seniors-training-camp-april-2023/
LOCATION:University of Wolverhampton\, Gorway Rd\,\, Wolverhampton\, Walsall\, Gorway RdWS1 3BD
CATEGORIES:Transplant Football
ATTACH;FMTTYPE=image/jpeg:https://transplantfootball.com/wp-content/uploads/2023/03/sgp_march_arena-2-scaled.jpg
ORGANIZER;CN="England Transplant Football Association":MAILTO:register@transplantfootball.com
END:VEVENT
BEGIN:VEVENT
DTSTART;TZID=Europe/London:20230514T160000
DTEND;TZID=Europe/London:20230514T180000
DTSTAMP:20260421T165227
CREATED:20230329T165652Z
LAST-MODIFIED:20230412T133358Z
UID:11209-1684080000-1684087200@transplantfootball.com
SUMMARY:England Youth Academy Futsal Hub
DESCRIPTION:England Youth Academy Futsal Hub\nJoin us in May for our England Youth Academy Futsal hub.\nIt’s your chance to try the fast\, Brazilian small-sided game and show off your skills and learn how to play Futsal from our FA Professional Futsal coaches. \nThis event is FREE to all Youth Academy players who attended the previous football festival and to new organ and stem-cell transplant players. \nOur Transplant Football Academy is open to players 11-16 years old. Register\, today and get an insight into what it takes to train and represent your country. \nWhat better way is there to start your Transplant Football journey than at the home of the England National team? \nNote: New Players must complete the online registration and medical form before attendance can be confirmed. \nFind out more about Futsal the rules and how to play the game Here \n  \n\n\n  \n\n\n\n\n\n\n\n\n\n\n\n	\n		\n\n		 \n	\n	\n		\n\n		 \n	\n\n\n	\n\n	 \n\n\n\n\n\nMedical Form\n\n\n\n\nOnce you have registered on a trial\, please fill in our medical form following the button below. \n\n\n\n    Medical Form\n    \n  \n  \nJune – England Senior and Academy Training Camp
URL:https://transplantfootball.com/event/england-youth-academy-futsal-hub/
LOCATION:University of Wolverhampton\, Gorway Rd\,\, Wolverhampton\, Walsall\, Gorway RdWS1 3BD
CATEGORIES:Transplant Football
ATTACH;FMTTYPE=image/jpeg:https://transplantfootball.com/wp-content/uploads/2023/03/YA-Futsal-Hub-5-1-2.jpg
END:VEVENT
BEGIN:VEVENT
DTSTART;TZID=Europe/London:20230513T130000
DTEND;TZID=Europe/London:20230513T160000
DTSTAMP:20260421T165227
CREATED:20230413T125253Z
LAST-MODIFIED:20230413T125253Z
UID:11244-1683982800-1683993600@transplantfootball.com
SUMMARY:England Senior and Youth Camp
DESCRIPTION:England Senior and Youth Camp\nJoin us in May for our England Senior and Youth Training Camp.\nHave you received an Organ or Stem-cell transplant and would like to get back into football? \nThis event is FREE to all club-registered Senior and Youth Academy players and to new organ and stem-cell transplant players. \nOur Transplant Football camp is open to players 11-50+ years old. Register\, today and get an insight into what it takes to train and represent your country. \nWhat better way is there to start your Transplant Football journey than at the home of the England National team? \nNote: New Players must complete the online registration and medical form before attendance can be confirmed. \nFind out more about what takes place on the day  Here \n  \n\n\n  \n\n\n\n\n\n\n\n\n\n\n\n	\n		\n\n		 \n	\n	\n		\n\n		 \n	\n\n\n	\n\n	 \n\n\n\n\n\nMedical Form\n\n\n\n\nOnce you have registered on a trial\, please fill in our medical form following the button below. \n\n\n\n    Medical Form\n    \n  \n  \nJune – England Senior Camp
URL:https://transplantfootball.com/event/england-senior-and-youth-training-camp/
LOCATION:St Georges Park\, Newborough Road\, Needwood\, Burton upon Trent\, Staffordshire\, DE13 9PD\, United Kingdom
CATEGORIES:Transplant Football
ATTACH;FMTTYPE=image/jpeg:https://transplantfootball.com/wp-content/uploads/2023/04/May-SGP-Camp-1-2.jpg
END:VEVENT
BEGIN:VEVENT
DTSTART;TZID=Europe/London:20230304T110000
DTEND;TZID=Europe/London:20230304T140000
DTSTAMP:20260421T165227
CREATED:20230118T161221Z
LAST-MODIFIED:20230118T161338Z
UID:11141-1677927600-1677938400@transplantfootball.com
SUMMARY:England Transplant Football Festival
DESCRIPTION:The UK’s Biggest Grassroots Transplant Football Festival\nIf you’re looking to make this year one to remember\, look no further. We aim to make SGP 2023 the largest youth & adult football festival in the UK. There is no better place than to hold our 1st event at the home of the England National team. On the Preticgious FIFA 2 graded Sir Alf Ramsey Indoor Pitch. \nWho Can Attend?\nSGP 2023 is for all Transplant recipients ages 11 to 50+ who have received an organ\, stem cell or Xeno transplant.  As long as you are medically fit and passed by our doctor\, you are welcome to attend and join in the festivities.  \nWhat is involved?\nNo matter your age we have lots of fun activities\, games and a chance to tour the National Training Centre. \nChildren aged 11 – 16  will meet our youth development coaches and learn more about the new Youth Academy.  The day will consist of playing some small-sided games\, Fun skills practices\, followed by a mini-football tournament.  \nYou may even spot an England Lion or Lioness hovering around. \nIf you are aged 16+\, you will be with the England Transplant 1st Team coaches. A chance to try some of our Elite Player program drills\, skills and team-building activities.  \nThen finishing the day off with mini-games and lots of fun meeting new and old friends. Now is your chance to showcase your football talent and maybe get selected for the development or 1st team squad. \nHow Much does it Cost to attend?\nSGP 2023 Transplant Football Festival is FREE\, thanks to our 1st team sponsor the NKF.  \nDue to the size of the venue and security policies\, there are Limited spaces available for this event.  \nWe have capped the Kids and teens at 35 participants and Seniors at 40. (this may change depending on interest and facility availability) \nNext Steps\nWhen you have registered and submitted the medical form. Our England medical team will check and verify everything is ok to proceed. Then\, you will receive a welcome email with the itinerary and what you will need for the day. \nWe look forward to seeing you soon! \n  \n\n    Register Today\n    \n  \nApril – England Walking Football Camp
URL:https://transplantfootball.com/event/england-transplant-football-festival/
LOCATION:St Georges Park\, Newborough Road\, Needwood\, Burton upon Trent\, Staffordshire\, DE13 9PD\, United Kingdom
CATEGORIES:Transplant Football
ATTACH;FMTTYPE=image/jpeg:https://transplantfootball.com/wp-content/uploads/2023/01/England_Transplant_Football_Festival-1048x699-1.jpg
ORGANIZER;CN="England Transplant Football Association":MAILTO:register@transplantfootball.com
END:VEVENT
BEGIN:VEVENT
DTSTART;TZID=Europe/London:20230204T140000
DTEND;TZID=Europe/London:20230204T170000
DTSTAMP:20260421T165227
CREATED:20230112T165540Z
LAST-MODIFIED:20230112T181049Z
UID:11065-1675519200-1675530000@transplantfootball.com
SUMMARY:England Training Camp
DESCRIPTION:Men’s and Women Senior Training Camp\nWelcome back\,  and 2023 brings a busy England training camp schedule for our senior teams and Academy. Starting this February we will be welcoming back our existing players and inviting new transplant recipients to get involved.  Our 1st Camp of the year is open to players over the age of 16+\, to meet the team and coaches. Get an insight into what it takes to train and represent your country. Through FA professional coaches as part of our Elite Player Performance Plan. \nWhat better way is there to start your Transplant Football journey than at the home of the England National team? \n  \n\n    Register Today\n    \n  \nMarch – England Training Camp & Academy Launch
URL:https://transplantfootball.com/event/england-training-camp-january-2023/
LOCATION:St Georges Park\, Newborough Road\, Needwood\, Burton upon Trent\, Staffordshire\, DE13 9PD\, United Kingdom
CATEGORIES:Transplant Football
ATTACH;FMTTYPE=image/jpeg:https://transplantfootball.com/wp-content/uploads/2023/01/043-0N1A5121-scaled.jpg
ORGANIZER;CN="England Transplant Football Association":MAILTO:register@transplantfootball.com
END:VEVENT
END:VCALENDAR